BEGIN:VCALENDAR
VERSION:2.0
PRODID:-//Musée du Malgré-Tout - Art et Archéologie - ECPv6.15.15//NONSGML v1.0//EN
CALSCALE:GREGORIAN
METHOD:PUBLISH
X-ORIGINAL-URL:https://museedumalgretout.be
X-WR-CALDESC:Évènements pour Musée du Malgré-Tout - Art et Archéologie
REFRESH-INTERVAL;VALUE=DURATION:PT1H
X-Robots-Tag:noindex
X-PUBLISHED-TTL:PT1H
BEGIN:VTIMEZONE
TZID:Europe/Zurich
BEGIN:DAYLIGHT
TZOFFSETFROM:+0100
TZOFFSETTO:+0200
TZNAME:CEST
DTSTART:20250330T010000
END:DAYLIGHT
BEGIN:STANDARD
TZOFFSETFROM:+0200
TZOFFSETTO:+0100
TZNAME:CET
DTSTART:20251026T010000
END:STANDARD
BEGIN:DAYLIGHT
TZOFFSETFROM:+0100
TZOFFSETTO:+0200
TZNAME:CEST
DTSTART:20260329T010000
END:DAYLIGHT
BEGIN:STANDARD
TZOFFSETFROM:+0200
TZOFFSETTO:+0100
TZNAME:CET
DTSTART:20261025T010000
END:STANDARD
BEGIN:DAYLIGHT
TZOFFSETFROM:+0100
TZOFFSETTO:+0200
TZNAME:CEST
DTSTART:20270328T010000
END:DAYLIGHT
BEGIN:STANDARD
TZOFFSETFROM:+0200
TZOFFSETTO:+0100
TZNAME:CET
DTSTART:20271031T010000
END:STANDARD
END:VTIMEZONE
BEGIN:VTIMEZONE
TZID:Europe/Brussels
BEGIN:DAYLIGHT
TZOFFSETFROM:+0100
TZOFFSETTO:+0200
TZNAME:CEST
DTSTART:20250330T010000
END:DAYLIGHT
BEGIN:STANDARD
TZOFFSETFROM:+0200
TZOFFSETTO:+0100
TZNAME:CET
DTSTART:20251026T010000
END:STANDARD
BEGIN:DAYLIGHT
TZOFFSETFROM:+0100
TZOFFSETTO:+0200
TZNAME:CEST
DTSTART:20260329T010000
END:DAYLIGHT
BEGIN:STANDARD
TZOFFSETFROM:+0200
TZOFFSETTO:+0100
TZNAME:CET
DTSTART:20261025T010000
END:STANDARD
BEGIN:DAYLIGHT
TZOFFSETFROM:+0100
TZOFFSETTO:+0200
TZNAME:CEST
DTSTART:20270328T010000
END:DAYLIGHT
BEGIN:STANDARD
TZOFFSETFROM:+0200
TZOFFSETTO:+0100
TZNAME:CET
DTSTART:20271031T010000
END:STANDARD
END:VTIMEZONE
BEGIN:VEVENT
DTSTART;VALUE=DATE:20260427
DTEND;VALUE=DATE:20260428
DTSTAMP:20260425T205431
CREATED:20260421T142308Z
LAST-MODIFIED:20260421T142308Z
UID:3715-1777248000-1777334399@museedumalgretout.be
SUMMARY:Atelier : Lire et écrire à Uruk
DESCRIPTION:Direction la Mésopotamie ! Dans la cité d’Uruk\, il y a 5 000 ans\, l’écriture est née. Après avoir découvert comment et pourquoi elle a été inventée\, chaque participant façonne une tablette d’argile et y inscrit un inventaire en signes cunéiformes. Une belle plongée dans l’histoire ! \nAtelier d’une heure gratuit à 11h et 14h moyennant le prix de l’entrée. \nAucune réservation nécessaire !
URL:https://museedumalgretout.be/agenda/atelier-lire-et-ecrire-a-uruk-5/
LOCATION:Musée du Malgré-Tout\, Rue de la Gare 28\, Treignes\, Province de Namur\, 5670\, Belgium
CATEGORIES:Animations et ateliers
ATTACH;FMTTYPE=image/jpeg:https://museedumalgretout.be/wp-content/uploads/2025/07/Uruk-pre-cuneiforme.jpg
ORGANIZER;CN="Mus%C3%A9e du Malgr%C3%A9-Tout":MAILTO:secretariat@cedarc-mmt.be
END:VEVENT
BEGIN:VEVENT
DTSTART;TZID=Europe/Brussels:20260428T110000
DTEND;TZID=Europe/Brussels:20260428T120000
DTSTAMP:20260425T205431
CREATED:20260421T142618Z
LAST-MODIFIED:20260421T144006Z
UID:3717-1777374000-1777377600@museedumalgretout.be
SUMMARY:Animation : Musique préhistorique
DESCRIPTION:À quoi ressemblait la musique à la Préhistoire ? Existait-elle ? Flûtes en os\, percussions en pierre\, coquillages… Plongez dans un monde sonore oublié et expérimentez les instruments qui ont peut-être pu être utilisés il y a des dizaines de milliers d’années. Un atelier étonnant pour tous les mélomanes amateurs ou passionnés. \nAnimation d’une heure gratuite à 11h uniquement moyennant le prix de l’entrée. \nAucune réservation nécessaire !
URL:https://museedumalgretout.be/agenda/animation-musique-prehistorique-3/
LOCATION:Province de Namur
CATEGORIES:Animations et ateliers
ATTACH;FMTTYPE=image/jpeg:https://museedumalgretout.be/wp-content/uploads/2025/10/IMG_5399.jpg
END:VEVENT
BEGIN:VEVENT
DTSTART;TZID=Europe/Zurich:20260428T140000
DTEND;TZID=Europe/Zurich:20260428T163000
DTSTAMP:20260425T205431
CREATED:20260424T103827Z
LAST-MODIFIED:20260424T103859Z
UID:3765-1777384800-1777393800@museedumalgretout.be
SUMMARY:Activité : Enquête à la Villa
DESCRIPTION:Le musée du Malgré-Tout et son équipe vous proposent une immersion grandeur nature. Le temps de quelques instants\, plongez dans l’univers de la villa de Treignes à l’époque gallo-romaine ! \nQuelque part dans cette demeure\, un crime a été commis : quelqu’un a « catnappé » le chat des propriétaires prénommé Mulsum. Menez l’enquête et découvrez : Qui est le coupable ? Où le crime a-t-il été commis ? Et avec quelle arme l’animal a-t-il été attrapé ? Une fois le mystère élucidé\, le mobile de ce méfait sera révélé. \nInformations pratiques : \n\nConseillé à partir de 6 ans\n5 euros par participants\, gratuit pour les moins de 6 ans. Possibilité d’acheter l’entrée au Musée également.\nRéservation obligatoire\nRendez-vous au musée à 13h50\nDurée 1h-1h30\nFin prévue vers 15h30-16h (20 minutes de marche aller et retour jusqu’à la villa)
URL:https://museedumalgretout.be/agenda/enquete-a-la-villa/
LOCATION:Musée du Malgré-Tout\, Rue de la Gare 28\, Treignes\, Province de Namur\, 5670\, Belgium
CATEGORIES:Activités
ATTACH;FMTTYPE=image/jpeg:https://museedumalgretout.be/wp-content/uploads/2026/04/Enquete-a-la-Villa-Publication-Facebook-1.jpg
ORGANIZER;CN="Mus%C3%A9e du Malgr%C3%A9-Tout":MAILTO:secretariat@cedarc-mmt.be
END:VEVENT
BEGIN:VEVENT
DTSTART;TZID=Europe/Zurich:20260429T110000
DTEND;TZID=Europe/Zurich:20260429T120000
DTSTAMP:20260425T205431
CREATED:20260424T095426Z
LAST-MODIFIED:20260424T095426Z
UID:3758-1777460400-1777464000@museedumalgretout.be
SUMMARY:Atelier - Cosmétiques égyptiens
DESCRIPTION:À quoi servaient les cosmétiques dans l’Égypte ancienne ? Bien plus qu’un simple geste esthétique\, ils étaient utilisés aussi bien par les hommes que par les femmes et répondaient à de multiples usages. Venez explorer ces pratiques fascinantes et découvrir les produits utilisés ainsi que leurs fonctions parfois surprenantes. Un atelier immersif entre histoire et savoir-faire ! \nAtelier d’une heure gratuit à 11h uniquement moyennant le prix de l’entrée. \nAucune réservation nécessaire !
URL:https://museedumalgretout.be/agenda/atelier-cosmetiques-egyptiens/
LOCATION:Musée du Malgré-Tout\, Rue de la Gare 28\, Treignes\, Province de Namur\, 5670\, Belgium
CATEGORIES:Animations et ateliers
ATTACH;FMTTYPE=image/png:https://museedumalgretout.be/wp-content/uploads/2026/04/Cosmetiques-Egyptiennes.png
ORGANIZER;CN="Mus%C3%A9e du Malgr%C3%A9-Tout":MAILTO:secretariat@cedarc-mmt.be
END:VEVENT
BEGIN:VEVENT
DTSTART;TZID=Europe/Zurich:20260430T110000
DTEND;TZID=Europe/Zurich:20260430T120000
DTSTAMP:20260425T205431
CREATED:20260421T143037Z
LAST-MODIFIED:20260421T143037Z
UID:3719-1777546800-1777550400@museedumalgretout.be
SUMMARY:Atelier - Peinture préhistorique
DESCRIPTION:Plongez au cœur des grottes de la Préhistoire et révélez l’artiste qui sommeille en vous ! Dans cet atelier immersif\, vous découvrirez les secrets des artistes préhistoriques : quels outils utilisaient-ils ? Pourquoi peignaient-ils des animaux ? Comment obtenaient-ils leurs couleurs ? Après une brève exploration de l’univers pariétal\, place à la création : à l’aide de pigments naturels\, chacun réalisera son propre mammouth comme il y a 20 000 ans. Une activité originale et sensorielle\, idéale pour petits et grands curieux de découvrir de nouvelles pratiques. \nAtelier d’une heure gratuit à 11h uniquement moyennant le prix de l’entrée. \nAucune réservation nécessaire !
URL:https://museedumalgretout.be/agenda/atelier-peinture-prehistorique-4/
LOCATION:Musée du Malgré-Tout\, Rue de la Gare 28\, Treignes\, Province de Namur\, 5670\, Belgium
CATEGORIES:Animations et ateliers
ATTACH;FMTTYPE=image/jpeg:https://museedumalgretout.be/wp-content/uploads/2025/07/2052691f-d955-47b1-8770-344a39d104c3.jpg
ORGANIZER;CN="Mus%C3%A9e du Malgr%C3%A9-Tout":MAILTO:secretariat@cedarc-mmt.be
END:VEVENT
BEGIN:VEVENT
DTSTART;TZID=Europe/Zurich:20260430T140000
DTEND;TZID=Europe/Zurich:20260430T163000
DTSTAMP:20260425T205431
CREATED:20260424T104138Z
LAST-MODIFIED:20260424T104138Z
UID:3771-1777557600-1777566600@museedumalgretout.be
SUMMARY:Activité : Enquête à la Villa
DESCRIPTION:Le musée du Malgré-Tout et son équipe vous proposent une immersion grandeur nature. Le temps de quelques instants\, plongez dans l’univers de la villa de Treignes à l’époque gallo-romaine ! \nQuelque part dans cette demeure\, un crime a été commis : quelqu’un a « catnappé » le chat des propriétaires prénommé Mulsum. Menez l’enquête et découvrez : Qui est le coupable ? Où le crime a-t-il été commis ? Et avec quelle arme l’animal a-t-il été attrapé ? Une fois le mystère élucidé\, le mobile de ce méfait sera révélé. \nInformations pratiques : \n\nConseillé à partir de 6 ans\n5 euros par participants\, gratuit pour les moins de 6 ans. Possibilité d’acheter l’entrée au Musée également.\nRéservation obligatoire\nRendez-vous au musée à 13h50\nDurée 1h-1h30\nFin prévue vers 15h30-16h (20 minutes de marche aller et retour jusqu’à la villa)
URL:https://museedumalgretout.be/agenda/activite-enquete-a-la-villa/
LOCATION:Musée du Malgré-Tout\, Rue de la Gare 28\, Treignes\, Province de Namur\, 5670\, Belgium
CATEGORIES:Activités
ATTACH;FMTTYPE=image/jpeg:https://museedumalgretout.be/wp-content/uploads/2026/04/Enquete-a-la-Villa-Publication-Facebook-1.jpg
ORGANIZER;CN="Mus%C3%A9e du Malgr%C3%A9-Tout":MAILTO:secretariat@cedarc-mmt.be
END:VEVENT
BEGIN:VEVENT
DTSTART;VALUE=DATE:20260501
DTEND;VALUE=DATE:20260502
DTSTAMP:20260425T205431
CREATED:20260421T143628Z
LAST-MODIFIED:20260421T143628Z
UID:3722-1777593600-1777679999@museedumalgretout.be
SUMMARY:Atelier - Fibule
DESCRIPTION:À quoi servaient les fibules\, ces élégantes broches de l’Antiquité ? Venez découvrir leur rôle dans l’habillement romain et fabriquez votre propre fibule de type oméga\, comme les artisans d’autrefois. Un atelier créatif et historique\, dont le résultat est à porter fièrement ! \nAtelier d’une heure gratuit à 11h et 14h moyennant le prix de l’entrée. \nAucune réservation nécessaire !
URL:https://museedumalgretout.be/agenda/atelier-fibule-3/
LOCATION:Musée du Malgré-Tout\, Rue de la Gare 28\, Treignes\, Province de Namur\, 5670\, Belgium
CATEGORIES:Animations et ateliers
ATTACH;FMTTYPE=image/jpeg:https://museedumalgretout.be/wp-content/uploads/2025/01/Atelier-fibule-1.jpg
ORGANIZER;CN="Mus%C3%A9e du Malgr%C3%A9-Tout":MAILTO:secretariat@cedarc-mmt.be
END:VEVENT
BEGIN:VEVENT
DTSTART;TZID=Europe/Brussels:20260502T140000
DTEND;TZID=Europe/Brussels:20260502T170000
DTSTAMP:20260425T205431
CREATED:20260228T105354Z
LAST-MODIFIED:20260422T145243Z
UID:3601-1777730400-1777741200@museedumalgretout.be
SUMMARY:Journée prof !
DESCRIPTION:Chères enseignantes\, enseignants\, directions et personnel de l’enseignement\, le Musée du Malgré-Tout a le plaisir de vous inviter à sa deuxième « Journée Prof »\, le samedi 2 mai à partir de 14h.\n\n\n\nUn après-midi convivial et inspirant pour (re)découvrir notre offre pédagogique\, accessible dès la première maternelle jusqu’à la sixième secondaire\, échanger entre collègues et explorer toutes les possibilités offertes à vos classes à travers l’univers de la Préhistoire et de l’Antiquité !\n\n\n\nAU PROGRAMME :\n 14h00 – Accueil café - goûter et visite libre du musée.\n 14h30 – Présentation conviviale du musée et de son offre par la responsable pédagogique.\n 15h00 – Activité au choix (1h) parmi nos 28 animations phares :\n• Le feu avant les allumettes  pour le côté Préhistoire\n• Initiation aux hiéroglyphes  pour le côté Antiquité\n 16h00 – Échange libre entre collègues et avec les animatrices du musée\, découvrez par la même occasion le matériel des animations et nos documents pédagogiques édités par nos soins\, avec une promotion exclusive de “4+2 offerts”\n\n\n\nPssssst\, vos familles sont les bienvenues \n\n\n\nINFOS PRATIQUES :\n Date : samedi 2 mai dès 14h.\n Lieu : 28 rue de la Gare\, 5670 Treignes.\n Prix : Gratuit pour toute la famille.\n\n\n Inscription obligatoire avant le mercredi 29 avril à l’adresse : secretariat@cedarc-mmt.be\nMerci de préciser le nombre d’adulte(s) et d’enfant(s) présent(s) ainsi que votre choix d’activité
URL:https://museedumalgretout.be/agenda/journee-prof-2/
LOCATION:Musée du Malgré-Tout\, Rue de la Gare 28\, Treignes\, Province de Namur\, 5670\, Belgium
ATTACH;FMTTYPE=image/png:https://museedumalgretout.be/wp-content/uploads/2026/02/Journee-prof-2-mai-visuel.png
END:VEVENT
BEGIN:VEVENT
DTSTART;VALUE=DATE:20260503
DTEND;VALUE=DATE:20260504
DTSTAMP:20260425T205431
CREATED:20260421T143917Z
LAST-MODIFIED:20260421T143917Z
UID:3724-1777766400-1777852799@museedumalgretout.be
SUMMARY:Animation - Tir au propulseur et à l’arc
DESCRIPTION:Et si vous testiez le tir au propulseur ou à l’arc comme nos ancêtres chasseurs-cueilleurs ? Après une rapide explication des techniques et des animaux chassés\, à vous de viser juste sur nos cibles grandeur nature. Une activité ludique et sportive pour tester votre force\, agilité et précision ! \nAnimation d’une heure gratuite à 11h et 14h moyennant le prix de l’entrée. \nAucune réservation nécessaire !
URL:https://museedumalgretout.be/agenda/animation-tir-au-propulseur-et-a-larc-5/
LOCATION:Musée du Malgré-Tout\, Rue de la Gare 28\, Treignes\, Province de Namur\, 5670\, Belgium
CATEGORIES:Animations et ateliers
ATTACH;FMTTYPE=image/jpeg:https://museedumalgretout.be/wp-content/uploads/2025/07/DSC8231-scaled.jpg
ORGANIZER;CN="Mus%C3%A9e du Malgr%C3%A9-Tout":MAILTO:secretariat@cedarc-mmt.be
END:VEVENT
BEGIN:VEVENT
DTSTART;VALUE=DATE:20260504
DTEND;VALUE=DATE:20260505
DTSTAMP:20260425T205431
CREATED:20260421T144755Z
LAST-MODIFIED:20260421T144755Z
UID:3727-1777852800-1777939199@museedumalgretout.be
SUMMARY:Animation - Reconstitution de poteries
DESCRIPTION:Deviens archéologue le temps d’une heure et essaye de restaurer une poterie antique ! Après une brève introduction sur les objets en céramique retrouvés sur les sites gallo-romains\, tu tenteras de reconstituer une poterie à partir de morceaux épars. Une mission de patience et de logique… comme les pros ! \nAnimation d’une heure gratuite à 11h et 14h moyennant le prix de l’entrée. \nAucune réservation nécessaire !
URL:https://museedumalgretout.be/agenda/animation-reconstitution-de-poteries-3/
LOCATION:Musée du Malgré-Tout\, Rue de la Gare 28\, Treignes\, Province de Namur\, 5670\, Belgium
CATEGORIES:Animations et ateliers
ATTACH;FMTTYPE=image/jpeg:https://museedumalgretout.be/wp-content/uploads/2025/06/DSC7404-scaled.jpg
ORGANIZER;CN="Mus%C3%A9e du Malgr%C3%A9-Tout":MAILTO:secretariat@cedarc-mmt.be
END:VEVENT
BEGIN:VEVENT
DTSTART;VALUE=DATE:20260504
DTEND;VALUE=DATE:20260509
DTSTAMP:20260425T205431
CREATED:20251223T135145Z
LAST-MODIFIED:20251223T135207Z
UID:3318-1777852800-1778284799@museedumalgretout.be
SUMMARY:Stage 6-12 ans : “Toutankarton ou presque"
DESCRIPTION:Plongez vos enfants dans l’univers fascinant de l’Égypte antique avec le stage « Toutankarton ou presque » ! À travers des ateliers et des jeux\, ils découvriront la vie des pharaons\, les fastes de la cour royale et les secrets de la haute société égyptienne. Un stage passionnant pour allier histoire\, créativité et amusement ! \n 
URL:https://museedumalgretout.be/agenda/stage-6-12-ans-toutankarton/
LOCATION:Musée du Malgré-Tout\, Rue de la Gare 28\, Treignes\, Province de Namur\, 5670\, Belgium
CATEGORIES:Stages
ATTACH;FMTTYPE=image/png:https://museedumalgretout.be/wp-content/uploads/2025/12/Affiche-stage-Touhtankarton.png
ORGANIZER;CN="Mus%C3%A9e du Malgr%C3%A9-Tout":MAILTO:secretariat@cedarc-mmt.be
END:VEVENT
BEGIN:VEVENT
DTSTART;VALUE=DATE:20260505
DTEND;VALUE=DATE:20260506
DTSTAMP:20260425T205431
CREATED:20260421T145645Z
LAST-MODIFIED:20260421T145645Z
UID:3729-1777939200-1778025599@museedumalgretout.be
SUMMARY:Initiation aux hiéroglyphes
DESCRIPTION:Pourquoi les égyptiens écrivaient avec des dessins ? Plongez dans le mystère des hiéroglyphes et découvrez comment ce peuple bâtisseur a inventé son système d’écriture. À la fin de l’atelier\, chacun saura écrire son prénom comme un vrai scribe antique ! \nAnimation d’une heure gratuite à 11h et 14h moyennant le prix de l’entrée. \nAucune réservation nécessaire !
URL:https://museedumalgretout.be/agenda/initiation-aux-hieroglyphes-4/
LOCATION:Musée du Malgré-Tout\, Rue de la Gare 28\, Treignes\, Province de Namur\, 5670\, Belgium
CATEGORIES:Animations et ateliers
ATTACH;FMTTYPE=image/jpeg:https://museedumalgretout.be/wp-content/uploads/2025/07/DSC7356-1-scaled.jpg
ORGANIZER;CN="Mus%C3%A9e du Malgr%C3%A9-Tout":MAILTO:secretariat@cedarc-mmt.be
END:VEVENT
BEGIN:VEVENT
DTSTART;TZID=Europe/Zurich:20260506T110000
DTEND;TZID=Europe/Zurich:20260506T120000
DTSTAMP:20260425T205431
CREATED:20260424T095609Z
LAST-MODIFIED:20260424T100230Z
UID:3763-1778065200-1778068800@museedumalgretout.be
SUMMARY:Atelier - Cosmétiques égyptiens
DESCRIPTION:À quoi servaient les cosmétiques dans l’Égypte ancienne ? Bien plus qu’un simple geste esthétique\, ils étaient utilisés aussi bien par les hommes que par les femmes et répondaient à de multiples usages. Venez explorer ces pratiques fascinantes et découvrir les produits utilisés ainsi que leurs fonctions parfois surprenantes. Un atelier immersif entre histoire et savoir-faire ! \nAtelier d’une heure gratuit à 11h uniquement moyennant le prix de l’entrée. \nAucune réservation nécessaire !
URL:https://museedumalgretout.be/agenda/atelier-cosmetiques-egyptiens-2/
LOCATION:Musée du Malgré-Tout\, Rue de la Gare 28\, Treignes\, Province de Namur\, 5670\, Belgium
CATEGORIES:Animations et ateliers
ATTACH;FMTTYPE=image/png:https://museedumalgretout.be/wp-content/uploads/2026/04/Cosmetiques-Egyptiennes.png
ORGANIZER;CN="Mus%C3%A9e du Malgr%C3%A9-Tout":MAILTO:secretariat@cedarc-mmt.be
END:VEVENT
BEGIN:VEVENT
DTSTART;VALUE=DATE:20260507
DTEND;VALUE=DATE:20260508
DTSTAMP:20260425T205431
CREATED:20260421T145959Z
LAST-MODIFIED:20260421T145959Z
UID:3732-1778112000-1778198399@museedumalgretout.be
SUMMARY:Animation - Emmaillotement antique
DESCRIPTION:Saviez-vous que les Romains emmaillotaient leurs bébés pour les protéger… et bien plus encore ? Reproduisez les gestes des nourrices antiques\, découvrez les objets de soins (biberons\, jouets\, déesses-mères) et essayez vous-même d’emmailloter un poupon comme à l’époque. \nAnimation d’une heure gratuite à 11h et 14h moyennant le prix de l’entrée. \nAucune réservation nécessaire !
URL:https://museedumalgretout.be/agenda/animation-emmaillotement-antique-5/
LOCATION:Musée du Malgré-Tout\, Rue de la Gare 28\, Treignes\, Province de Namur\, 5670\, Belgium
CATEGORIES:Animations et ateliers
ATTACH;FMTTYPE=image/jpeg:https://museedumalgretout.be/wp-content/uploads/2025/07/DSC7477-scaled.jpg
ORGANIZER;CN="Mus%C3%A9e du Malgr%C3%A9-Tout":MAILTO:secretariat@cedarc-mmt.be
END:VEVENT
BEGIN:VEVENT
DTSTART;VALUE=DATE:20260508
DTEND;VALUE=DATE:20260510
DTSTAMP:20260425T205431
CREATED:20260421T150208Z
LAST-MODIFIED:20260421T150208Z
UID:3734-1778198400-1778371199@museedumalgretout.be
SUMMARY:Jeu égyptien
DESCRIPTION:Prêts à relever les défis de Rê\, Anubis ou Bastet ? Inspiré du célèbre jeu de l’oie\, ce parcours ludique et autonome vous plonge dans l’univers fascinant de la mythologie égyptienne. À chaque case\, un défi ou une question pour tester vos connaissances… ou en apprendre de nouvelles ! Une belle manière de découvrir des dieux et des symboles aussi mystérieux que passionnants\, en famille et en s’amusant. \nAnimation en autonomie gratuite moyennant le prix de l’entrée disponible toute la journée. \nAucune réservation nécessaire !
URL:https://museedumalgretout.be/agenda/jeu-egyptien-2/
LOCATION:Musée du Malgré-Tout\, Rue de la Gare 28\, Treignes\, Province de Namur\, 5670\, Belgium
CATEGORIES:Animations et ateliers
ATTACH;FMTTYPE=image/png:https://museedumalgretout.be/wp-content/uploads/2025/10/Design-sans-titre-scaled.png
ORGANIZER;CN="Mus%C3%A9e du Malgr%C3%A9-Tout":MAILTO:secretariat@cedarc-mmt.be
END:VEVENT
BEGIN:VEVENT
DTSTART;VALUE=DATE:20260509
DTEND;VALUE=DATE:20260510
DTSTAMP:20260425T205431
CREATED:20260421T150305Z
LAST-MODIFIED:20260421T150305Z
UID:3736-1778284800-1778371199@museedumalgretout.be
SUMMARY:Rencontre avec une archéologue
DESCRIPTION:Comment devient-on archéologue ? Que fait-on vraiment sur un chantier de fouilles ? Quels objets cherche-t-on\, et que nous apprennent-ils ? Lors de cette rencontre interactive\, une archéologue partage son quotidien\, ses découvertes\, et répond à toutes vos questions. Une belle occasion d’échanger avec une professionnelle passionnée et de découvrir les coulisses de ce métier fascinant ! \nAnimation d’une heure gratuite à 11h uniquement moyennant le prix de l’entrée. \nAucune réservation nécessaire !
URL:https://museedumalgretout.be/agenda/rencontre-avec-une-archeologue-5/
LOCATION:Musée du Malgré-Tout\, Rue de la Gare 28\, Treignes\, Province de Namur\, 5670\, Belgium
CATEGORIES:Animations et ateliers
ATTACH;FMTTYPE=image/jpeg:https://museedumalgretout.be/wp-content/uploads/2025/07/DSC8890-scaled.jpg
ORGANIZER;CN="Mus%C3%A9e du Malgr%C3%A9-Tout":MAILTO:secretariat@cedarc-mmt.be
END:VEVENT
BEGIN:VEVENT
DTSTART;VALUE=DATE:20260510
DTEND;VALUE=DATE:20260511
DTSTAMP:20260425T205431
CREATED:20260421T150519Z
LAST-MODIFIED:20260421T150519Z
UID:3738-1778371200-1778457599@museedumalgretout.be
SUMMARY:Animation - Être nouveau-né à Rome
DESCRIPTION:À Rome\, naître n’était pas si simple… Découvrez les croyances étranges et les rituels entourant les nouveau-nés romains\, puis revivez les décisions du « pater familias ». Une activité interactive qui fera réfléchir petits et grands sur la vie d’un bébé il y a 2 000 ans. \nAnimation d’une heure gratuite à 11h et 14h moyennant le prix de l’entrée. \nAucune réservation nécessaire !
URL:https://museedumalgretout.be/agenda/animation-etre-nouveau-ne-a-rome-4/
LOCATION:Musée du Malgré-Tout\, Rue de la Gare 28\, Treignes\, Province de Namur\, 5670\, Belgium
CATEGORIES:Animations et ateliers
ATTACH;FMTTYPE=image/jpeg:https://museedumalgretout.be/wp-content/uploads/2025/06/DSC7539-scaled.jpg
ORGANIZER;CN="Mus%C3%A9e du Malgr%C3%A9-Tout":MAILTO:secretariat@cedarc-mmt.be
END:VEVENT
BEGIN:VEVENT
DTSTART;VALUE=DATE:20260720
DTEND;VALUE=DATE:20260725
DTSTAMP:20260425T205431
CREATED:20251223T141207Z
LAST-MODIFIED:20251223T142821Z
UID:3336-1784505600-1784937599@museedumalgretout.be
SUMMARY:Stage de 4 jours 6-12 ans : "J'avais 8 ans il y a 3000 ans"
DESCRIPTION:Faites voyager vos enfants dans l’Égypte antique et pour découvrir la vie quotidienne des enfants de cette époque ! À travers des ateliers pratiques et des jeux\, ils apprendront comment les petits Égyptiens jouaient\, étudiaient\, aidaient leur famille et participaient aux traditions de leur peuple. Une façon ludique et immersive de comprendre le quotidien des enfants d’il y a 3000 ans\, tout en s’amusant ! \nLe lundi 20 et du mercredi 22 au vendredi 24 juillet ! 
URL:https://museedumalgretout.be/agenda/stage-6-12-ans-javais-8-ans-il-y-a-3000-ans/
LOCATION:Musée du Malgré-Tout\, Rue de la Gare 28\, Treignes\, Province de Namur\, 5670\, Belgium
CATEGORIES:Stages
ATTACH;FMTTYPE=image/png:https://museedumalgretout.be/wp-content/uploads/2025/12/Affiche-stage-Javais-8-ans-il-y-a-3000-ans-1.png
ORGANIZER;CN="Mus%C3%A9e du Malgr%C3%A9-Tout":MAILTO:secretariat@cedarc-mmt.be
END:VEVENT
BEGIN:VEVENT
DTSTART;VALUE=DATE:20260817
DTEND;VALUE=DATE:20260822
DTSTAMP:20260425T205431
CREATED:20251223T135401Z
LAST-MODIFIED:20251223T135401Z
UID:3332-1786924800-1787356799@museedumalgretout.be
SUMMARY:Stage 3-6 ans : “Toutankarton ou presque" version mini
DESCRIPTION:Plongez vos enfants dans l’univers fascinant de l’Égypte antique avec le stage « Toutankarton ou presque » ! À travers des ateliers et des jeux\, ils découvriront la vie des pharaons\, les fastes de la cour royale et les secrets de la haute société égyptienne. Un stage passionnant pour allier histoire\, créativité et amusement ! \n 
URL:https://museedumalgretout.be/agenda/stage-3-6-ans-toutankarton-ou-presque-version-mini/
LOCATION:Musée du Malgré-Tout\, Rue de la Gare 28\, Treignes\, Province de Namur\, 5670\, Belgium
CATEGORIES:Stages
ATTACH;FMTTYPE=image/png:https://museedumalgretout.be/wp-content/uploads/2025/12/Affiche-stage-Touhtankarton-version-mini.png
ORGANIZER;CN="Mus%C3%A9e du Malgr%C3%A9-Tout":MAILTO:secretariat@cedarc-mmt.be
END:VEVENT
END:VCALENDAR